BEGIN:VCALENDAR
VERSION:2.0
PRODID:-//Rude Rebel Ska Music web site - ECPv6.15.20//NONSGML v1.0//EN
CALSCALE:GREGORIAN
METHOD:PUBLISH
X-ORIGINAL-URL:https://ruderebel.net
X-WR-CALDESC:Events for Rude Rebel Ska Music web site
REFRESH-INTERVAL;VALUE=DURATION:PT1H
X-Robots-Tag:noindex
X-PUBLISHED-TTL:PT1H
BEGIN:VTIMEZONE
TZID:Europe/London
BEGIN:DAYLIGHT
TZOFFSETFROM:+0000
TZOFFSETTO:+0100
TZNAME:BST
DTSTART:20230326T010000
END:DAYLIGHT
BEGIN:STANDARD
TZOFFSETFROM:+0100
TZOFFSETTO:+0000
TZNAME:GMT
DTSTART:20231029T010000
END:STANDARD
BEGIN:DAYLIGHT
TZOFFSETFROM:+0000
TZOFFSETTO:+0100
TZNAME:BST
DTSTART:20240331T010000
END:DAYLIGHT
BEGIN:STANDARD
TZOFFSETFROM:+0100
TZOFFSETTO:+0000
TZNAME:GMT
DTSTART:20241027T010000
END:STANDARD
BEGIN:DAYLIGHT
TZOFFSETFROM:+0000
TZOFFSETTO:+0100
TZNAME:BST
DTSTART:20250330T010000
END:DAYLIGHT
BEGIN:STANDARD
TZOFFSETFROM:+0100
TZOFFSETTO:+0000
TZNAME:GMT
DTSTART:20251026T010000
END:STANDARD
END:VTIMEZONE
BEGIN:VEVENT
DTSTART;VALUE=DATE:20240628
DTEND;VALUE=DATE:20240701
DTSTAMP:20260421T092333
CREATED:20240101T171035Z
LAST-MODIFIED:20240506T214629Z
UID:10000100-1719532800-1719791999@ruderebel.net
SUMMARY:The 5th Skegness Reggae & Ska Festival
DESCRIPTION:The 5th Skegness Reggae & Ska Festival – Admission £5 & £10
URL:https://ruderebel.net/event/the-5th-skegness-reggae-ska-festival/
LOCATION:Royal Hotel\, South Parade\, Skegness\, PE25 3EH\, United Kingdom
CATEGORIES:UK Ska Events
ATTACH;FMTTYPE=image/jpeg:https://ruderebel.net/wp-content/uploads/2024/01/Skegness-Ska-2024.jpg
END:VEVENT
END:VCALENDAR